BEGIN:VCALENDAR
VERSION:2.0
PRODID:-//Protecs Global Pty Ltd - ECPv6.15.18//NONSGML v1.0//EN
CALSCALE:GREGORIAN
METHOD:PUBLISH
X-ORIGINAL-URL:https://protecsglobal.com.au
X-WR-CALDESC:Events for Protecs Global Pty Ltd
REFRESH-INTERVAL;VALUE=DURATION:PT1H
X-Robots-Tag:noindex
X-PUBLISHED-TTL:PT1H
BEGIN:VTIMEZONE
TZID:Australia/Brisbane
BEGIN:STANDARD
TZOFFSETFROM:+1000
TZOFFSETTO:+1000
TZNAME:AEST
DTSTART:20250101T000000
END:STANDARD
END:VTIMEZONE
BEGIN:VEVENT
DTSTART;TZID=Australia/Brisbane:20261211T000000
DTEND;TZID=Australia/Brisbane:20261211T235959
DTSTAMP:20260422T190616
CREATED:20260408T222523Z
LAST-MODIFIED:20260408T222531Z
UID:31925-1796947200-1797033599@protecsglobal.com.au
SUMMARY:AINDT Exams
DESCRIPTION:All AINDT examinations can be booked by agreement. Email at hamed.madani@protecsglobal.com.au for more details! \n\n\n\n\n\n\n\n\nExam Date:11th December\, 2026
URL:https://protecsglobal.com.au/schedule/aindt-exams-128/
LOCATION:Newcastle (NSW)\, Australia
CATEGORIES:AINDT Exam,UT1GE
ATTACH;FMTTYPE=image/png:https://protecsglobal.com.au/wp-content/uploads/2024/10/AINDT-EXAM.png
END:VEVENT
BEGIN:VEVENT
DTSTART;TZID=Australia/Brisbane:20261214T000000
DTEND;TZID=Australia/Brisbane:20261218T235959
DTSTAMP:20260422T190616
CREATED:20260408T221642Z
LAST-MODIFIED:20260408T221650Z
UID:31921-1797206400-1797638399@protecsglobal.com.au
SUMMARY:ISO 9712 UT1GE Course and Exam - Module 2 (Blended Training)
DESCRIPTION:Course Description: Ultrasonic Testing Level 1 (General Engineering) is an introductory course designed to equip individuals with fundamental skills in non-destructive testing (NDT) using ultrasonic methods. This training program is perfect for beginners and professionals looking to expand their knowledge in flaw detection and evaluation. Participants will gain valuable insights into the principles and applications of ultrasonic testing\, preparing them for various engineering inspection tasks.CERTIFICATION/AWARDING BODY:Australian Institute for Non-Destructive Testing (AINDT ISO 9712) \n\n\n\n\n\nDELIVERY METHOD:\nModule 1 – Online \n\n\n\nModule 2 – In Classroom (5 Days) \n\n\n\n\n\nLocation:Brisbane\n\n\n\nTraining: 14th December – 18th December\n\n\n\nExam Date : 18th December 2026\n\n\n\nEmail Address: hamed.madani@protecsglobal.com.au
URL:https://protecsglobal.com.au/schedule/iso-9712-ut1ge-course-and-exam-module-2-blended-training-29/
LOCATION:Brisbane\, Australia
CATEGORIES:UT1GE
ATTACH;FMTTYPE=image/jpeg:https://protecsglobal.com.au/wp-content/uploads/2023/09/Ultrasonic-Testing-Level-1-scaled-1.jpg
END:VEVENT
BEGIN:VEVENT
DTSTART;TZID=Australia/Brisbane:20261218T000000
DTEND;TZID=Australia/Brisbane:20261218T235959
DTSTAMP:20260422T190616
CREATED:20260408T222603Z
LAST-MODIFIED:20260408T222612Z
UID:31926-1797552000-1797638399@protecsglobal.com.au
SUMMARY:AINDT Exams
DESCRIPTION:All AINDT examinations can be booked by agreement. Email at hamed.madani@protecsglobal.com.au for more details! \n\n\n\n\n\n\n\n\nExam Date:18th December\, 2026
URL:https://protecsglobal.com.au/schedule/aindt-exams-129/
LOCATION:Brisbane\, Australia
CATEGORIES:AINDT Exam,UT1GE
ATTACH;FMTTYPE=image/png:https://protecsglobal.com.au/wp-content/uploads/2024/10/AINDT-EXAM.png
END:VEVENT
END:VCALENDAR